BEGIN:VCALENDAR
VERSION:2.0
PRODID:-//Squarespace Inc/Squarespace 6//v6//EN
BEGIN:VEVENT
UID:5b32e00af950b7530a109a38@squarespace.com
DTSTAMP:20180627T031300Z
DTSTART:20180701T190000Z
DTEND:20180701T230000Z
SUMMARY:Met Opera – Cosi Fan Tutte
END:VEVENT
END:VCALENDAR
