BEGIN:VCALENDAR
VERSION:2.0
PRODID:-//Squarespace Inc/Squarespace 6//v6//EN
BEGIN:VEVENT
UID:5b05fb83562fa71f21903a8a@squarespace.com
DTSTAMP:20180524T043136Z
DTSTART:20180606T203000Z
DTEND:20180606T223000Z
SUMMARY:Get to Know Massey University Information Evening
END:VEVENT
END:VCALENDAR
