BEGIN:VCALENDAR
VERSION:2.0
PRODID:-//Squarespace Inc/Squarespace 6//v6//EN
BEGIN:VEVENT
UID:5b0370d3f950b75de22829fa@squarespace.com
DTSTAMP:20180522T035527Z
DTSTART:20180603T190000Z
DTEND:20180603T203000Z
SUMMARY:Exhibition Series: Exhibition On Screen: Hockney
END:VEVENT
END:VCALENDAR
