BEGIN:VCALENDAR
VERSION:2.0
PRODID:-//Squarespace Inc/Squarespace 6//v6//EN
BEGIN:VEVENT
UID:5b0628be562fa74ebee5c682@squarespace.com
DTSTAMP:20180524T025600Z
DTSTART:20180530T150000Z
DTEND:20180530T163000Z
SUMMARY:BOTTICELLI: INFERNO
END:VEVENT
END:VCALENDAR
