BEGIN:VCALENDAR
VERSION:2.0
PRODID:-//Squarespace Inc/Squarespace 6//v6//EN
BEGIN:VEVENT
UID:5ad812136d2a734914ce33bc@squarespace.com
DTSTAMP:20180522T041208Z
DTSTART:20180526T230000Z
DTEND:20180527T013000Z
SUMMARY:Laugh Nelson 
END:VEVENT
END:VCALENDAR
