BEGIN:VCALENDAR
VERSION:2.0
PRODID:-//Squarespace Inc/Squarespace 6//v6//EN
BEGIN:VEVENT
UID:5a6a6e42c830255e65cb702e@squarespace.com
DTSTAMP:20180126T005218Z
DTSTART:20180214T000000Z
DTEND:20180214T020000Z
SUMMARY:Hippocratic: The Movie  “18 experiments in slowly changing the worl
 d”
END:VEVENT
END:VCALENDAR
