BEGIN:VCALENDAR
VERSION:2.0
PRODID:-//Squarespace Inc/Squarespace 6//v6//EN
BEGIN:VEVENT
UID:5d78839d850551286d687657@squarespace.com
DTSTAMP:20190911T052526Z
DTSTART:20190921T180000Z
DTEND:20190921T190000Z
SUMMARY:Discussion style floor talk: curator and artist.
END:VEVENT
END:VCALENDAR
