BEGIN:VCALENDAR
VERSION:2.0
PRODID:-//Squarespace Inc/Squarespace 6//v6//EN
BEGIN:VEVENT
UID:5d787881fc613d068212210e@squarespace.com
DTSTAMP:20190911T051117Z
DTSTART:20190920T213000Z
DTEND:20190920T233000Z
SUMMARY:Jay Hutchinson Opening
END:VEVENT
END:VCALENDAR
