BEGIN:VCALENDAR
VERSION:2.0
PRODID:-//Squarespace Inc/Squarespace 6//v6//EN
BEGIN:VEVENT
UID:5d884bfce915d1730ca44644@squarespace.com
DTSTAMP:20191003T230929Z
DTSTART:20191005T143000Z
DTEND:20191005T203000Z
SUMMARY:120 years old &amp\; 3 years new! Birthday Celebrations at The Sute
 r.
GEO:-41.272868;173.289946
LOCATION:The Suter\, 208 Bridge Street\, Nelson\, Nelson\, 7010\, New Zeala
 nd
END:VEVENT
END:VCALENDAR
