BEGIN:VCALENDAR
VERSION:2.0
PRODID:-//Squarespace Inc/Squarespace 6//v6//EN
BEGIN:VEVENT
UID:59dd86340abd04ecb623c836@squarespace.com
DTSTAMP:20171219T211047Z
DTSTART:20171221T150000Z
DTEND:20171221T160000Z
SUMMARY:Thursday Talk: Guided Tour
END:VEVENT
END:VCALENDAR
