BEGIN:VCALENDAR
VERSION:2.0
PRODID:-//Squarespace Inc/Squarespace 6//v6//EN
BEGIN:VEVENT
UID:5b569788352f53339a661e5b@squarespace.com
DTSTAMP:20180724T041140Z
DTSTART:20180805T180000Z
DTEND:20180805T200000Z
SUMMARY:Arts + Climate Innovation Roadshow – Nelson
END:VEVENT
END:VCALENDAR
