BEGIN:VCALENDAR
VERSION:2.0
PRODID:-//Squarespace Inc/Squarespace 6//v6//EN
BEGIN:VEVENT
UID:5b482d5b03ce6449d4ce84f1@squarespace.com
DTSTAMP:20180713T044221Z
DTSTART:20180722T190000Z
DTEND:20180722T221000Z
SUMMARY:NT Live – Cat on a Hot Tin Roof
END:VEVENT
END:VCALENDAR
