BEGIN:VCALENDAR
VERSION:2.0
PRODID:-//Squarespace Inc/Squarespace 6//v6//EN
BEGIN:VEVENT
UID:5b482c7f70a6ad6d7181b777@squarespace.com
DTSTAMP:20180713T044049Z
DTSTART:20180720T220000Z
DTEND:20180721T011000Z
SUMMARY:NT Live – Cat on a Hot Tin Roof
END:VEVENT
END:VCALENDAR
