BEGIN:VCALENDAR
VERSION:2.0
PRODID:-//Squarespace Inc/Squarespace 6//v6//EN
BEGIN:VEVENT
UID:5b33fdeb758d464018aa5095@squarespace.com
DTSTAMP:20180627T222344Z
DTSTART:20180715T190000Z
DTEND:20180715T203000Z
SUMMARY:Caravaggio – Italian Art Series
END:VEVENT
END:VCALENDAR
