BEGIN:VCALENDAR
VERSION:2.0
PRODID:-//Squarespace Inc/Squarespace 6//v6//EN
BEGIN:VEVENT
UID:5b340dae70a6adbb6512b570@squarespace.com
DTSTAMP:20180627T222122Z
DTSTART:20180718T150000Z
DTEND:20180718T163000Z
SUMMARY:Caravaggio – Italian Art Series
END:VEVENT
END:VCALENDAR
