BEGIN:VCALENDAR
VERSION:2.0
PRODID:-//Squarespace Inc/Squarespace 6//v6//EN
BEGIN:VEVENT
UID:5b038f996d2a735b97fb4731@squarespace.com
DTSTAMP:20180522T035746Z
DTSTART:20180606T150000Z
DTEND:20180606T163000Z
SUMMARY:Exhibition Series: Exhibition On Screen: Hockney
END:VEVENT
END:VCALENDAR
