BEGIN:VCALENDAR
VERSION:2.0
PRODID:-//Squarespace Inc/Squarespace 6//v6//EN
BEGIN:VEVENT
UID:5b06207603ce640b29a54574@squarespace.com
DTSTAMP:20180524T025542Z
DTSTART:20180527T190000Z
DTEND:20180527T203000Z
SUMMARY:BOTTICELLI: INFERNO
END:VEVENT
END:VCALENDAR
