BEGIN:VCALENDAR
VERSION:2.0
PRODID:-//Squarespace Inc/Squarespace 6//v6//EN
BEGIN:VEVENT
UID:5ad6c643f950b724bbd7f3af@squarespace.com
DTSTAMP:20180522T040300Z
DTSTART:20180525T233000Z
DTEND:20180526T020000Z
SUMMARY:Young and Inspired
END:VEVENT
END:VCALENDAR
