BEGIN:VCALENDAR
VERSION:2.0
PRODID:-//Squarespace Inc/Squarespace 6//v6//EN
BEGIN:VEVENT
UID:5ac4248f70a6adfc8c73da26@squarespace.com
DTSTAMP:20180404T022548Z
DTSTART:20180413T233000Z
DTEND:20180414T020000Z
SUMMARY:Jonathan Crayford - Steinway Tour
END:VEVENT
END:VCALENDAR
