BEGIN:VCALENDAR
VERSION:2.0
PRODID:-//Squarespace Inc/Squarespace 6//v6//EN
BEGIN:VEVENT
UID:5a9ca221c830255b247bb84c@squarespace.com
DTSTAMP:20180306T035729Z
DTSTART:20180314T223000Z
DTEND:20180329T010000Z
SUMMARY:The Alliance Française French Film Festival
END:VEVENT
END:VCALENDAR
