BEGIN:VCALENDAR
VERSION:2.0
PRODID:-//Squarespace Inc/Squarespace 6//v6//EN
BEGIN:VEVENT
UID:5a67cac8e4966bbfb952399a@squarespace.com
DTSTAMP:20180220T210108Z
DTSTART:20180223T003000Z
DTEND:20180223T020000Z
SUMMARY:Beauty Matters – David Trubridge
END:VEVENT
END:VCALENDAR
