BEGIN:VCALENDAR
VERSION:2.0
PRODID:-//Squarespace Inc/Squarespace 6//v6//EN
BEGIN:VEVENT
UID:5be1f51f70a6ad527c4ba594@squarespace.com
DTSTAMP:20181106T201818Z
DTSTART:20181129T223000Z
DTEND:20181130T010000Z
SUMMARY:Beyond Plastic Bags: How To Slash Your Environmental Footprint &amp
 \; Have Fun Doing It
END:VEVENT
END:VCALENDAR
