BEGIN:VCALENDAR
VERSION:2.0
PRODID:-//Squarespace Inc/Squarespace 6//v6//EN
BEGIN:VEVENT
UID:58939ee7e6f2e16d60a66046@squarespace.com
DTSTAMP:20170202T220934Z
DTSTART:20170408T000000Z
DTEND:20170408T013000Z
SUMMARY:Caitlín Nic Gabhann\, with Ciarán Ó Maonaigh\, and Cathal Ó Curráin
END:VEVENT
END:VCALENDAR
