BEGIN:VCALENDAR
VERSION:2.0
PRODID:-//Squarespace Inc/Squarespace 6//v6//EN
BEGIN:VEVENT
UID:5a1cd4d2e4966b134251045c@squarespace.com
DTSTAMP:20171128T034136Z
DTSTART:20171209T000000Z
DTEND:20171210T023000Z
SUMMARY:Excerpts from The Sleeping Beauty & Showcase 
END:VEVENT
END:VCALENDAR
