BEGIN:VCALENDAR
VERSION:2.0
PRODID:-//Squarespace Inc/Squarespace 6//v6//EN
BEGIN:VEVENT
UID:5a2892cbec212d1d08630bb7@squarespace.com
DTSTAMP:20171207T012125Z
DTSTART:20171217T010000Z
DTEND:20171217T020000Z
SUMMARY:Kahurangi Irish Dance 4th Annual Showcase
END:VEVENT
END:VCALENDAR
