BEGIN:VCALENDAR
VERSION:2.0
PRODID:-//Squarespace Inc/Squarespace 6//v6//EN
BEGIN:VEVENT
UID:5a1499740d929798716a3f90@squarespace.com
DTSTAMP:20171128T022513Z
DTSTART:20171221T180000Z
DTEND:20171222T190000Z
SUMMARY:Mr Science Xmas Extravaganza
END:VEVENT
END:VCALENDAR
