BEGIN:VCALENDAR
VERSION:2.0
PRODID:-//Squarespace Inc/Squarespace 6//v6//EN
BEGIN:VEVENT
UID:5a1cc913085229dcccff072d@squarespace.com
DTSTAMP:20171207T012256Z
DTSTART:20171210T183000Z
DTEND:20171210T213000Z
SUMMARY:Nelson Male Voice Choir: A Very Merry Christmas
END:VEVENT
END:VCALENDAR
