BEGIN:VCALENDAR
VERSION:2.0
PRODID:-//Squarespace Inc/Squarespace 6//v6//EN
BEGIN:VEVENT
UID:5a149d82e4966bd28b53448c@squarespace.com
DTSTAMP:20171121T231237Z
DTSTART:20171125T000000Z
DTEND:20171126T020000Z
SUMMARY:ASTAR Academy of the Arts Ltd "The Night Before Christmas" 
END:VEVENT
END:VCALENDAR
