BEGIN:VCALENDAR
VERSION:2.0
PRODID:-//Squarespace Inc/Squarespace 6//v6//EN
BEGIN:VEVENT
UID:59a6311003596ef5eb2435a5@squarespace.com
DTSTAMP:20171009T030513Z
DTSTART:20171122T230000Z
DTEND:20171124T003000Z
SUMMARY:Alice
END:VEVENT
END:VCALENDAR
