BEGIN:VCALENDAR
VERSION:2.0
PRODID:-//Squarespace Inc/Squarespace 6//v6//EN
BEGIN:VEVENT
UID:59dd5def1f318d2ad2355b9e@squarespace.com
DTSTAMP:20171011T003244Z
DTSTART:20171030T223000Z
DTEND:20171030T233000Z
SUMMARY:Great Kiwi Research | Sharing women’s discoveries: Water women: Pro
 tecting our lakes\, rivers and oceans
END:VEVENT
END:VCALENDAR
