BEGIN:VCALENDAR
VERSION:2.0
PRODID:-//Squarespace Inc/Squarespace 6//v6//EN
BEGIN:VEVENT
UID:59bf3574a9db09dd957d2a90@squarespace.com
DTSTAMP:20170918T035616Z
DTSTART:20171029T230000Z
DTEND:20171030T013000Z
SUMMARY:Top of the South Film Festival “Made-in-Nelson” Feature World Premi
 ere
END:VEVENT
END:VCALENDAR
