BEGIN:VCALENDAR
VERSION:2.0
PRODID:-//Squarespace Inc/Squarespace 6//v6//EN
BEGIN:VEVENT
UID:59bf45481f318d622879bd17@squarespace.com
DTSTAMP:20170918T043734Z
DTSTART:20171028T211500Z
DTEND:20171029T033000Z
SUMMARY:Top of the South Shorts Film Festival  & Red Carpet
END:VEVENT
END:VCALENDAR
