BEGIN:VCALENDAR
VERSION:2.0
PRODID:-//Squarespace Inc/Squarespace 6//v6//EN
BEGIN:VEVENT
UID:59b07b632278e70e9fa1ee96@squarespace.com
DTSTAMP:20170907T023509Z
DTSTART:20171022T203000Z
DTEND:20171022T213000Z
SUMMARY:2017 Nelson Arts Festival | Marcus Thomas – Our Hidden World
END:VEVENT
END:VCALENDAR
