BEGIN:VCALENDAR
VERSION:2.0
PRODID:-//Squarespace Inc/Squarespace 6//v6//EN
BEGIN:VEVENT
UID:59b07005cf81e0bf5f384ef0@squarespace.com
DTSTAMP:20170926T031736Z
DTSTART:20171018T230000Z
DTEND:20171020T000000Z
SUMMARY:2017 Nelson Arts Festival | Ernest Rutherford: Everyone Can Science
 !
END:VEVENT
END:VCALENDAR
