BEGIN:VCALENDAR
VERSION:2.0
PRODID:-//Squarespace Inc/Squarespace 6//v6//EN
BEGIN:VEVENT
UID:5bff4fb01ae6cff49793703b@squarespace.com
DTSTAMP:20181129T024455Z
DTSTART:20190202T143000Z
DTEND:20190407T203000Z
SUMMARY:Sharks and Still Lives
END:VEVENT
END:VCALENDAR
