BEGIN:VCALENDAR
VERSION:2.0
PRODID:-//Squarespace Inc/Squarespace 6//v6//EN
BEGIN:VEVENT
UID:5c05871521c67cd401702706@squarespace.com
DTSTAMP:20181203T194534Z
DTSTART:20190216T143000Z
DTEND:20190414T203000Z
SUMMARY:Lisa Chandler: The Dividing Line
END:VEVENT
END:VCALENDAR
