BEGIN:VCALENDAR
VERSION:2.0
PRODID:-//Squarespace Inc/Squarespace 6//v6//EN
BEGIN:VEVENT
UID:5bbd2a43c8302561862f1ced@squarespace.com
DTSTAMP:20181009T225453Z
DTSTART:20190119T143000Z
DTEND:20190407T203000Z
SUMMARY:Alan Pearson: Master of Grey
END:VEVENT
END:VCALENDAR
