BEGIN:VCALENDAR
VERSION:2.0
PRODID:-//Squarespace Inc/Squarespace 6//v6//EN
BEGIN:VEVENT
UID:5af8f0318a922d06174daff3@squarespace.com
DTSTAMP:20180606T012259Z
DTSTART:20180609T133000Z
DTEND:20180826T203000Z
SUMMARY:Richard Stratton: Living History 
END:VEVENT
END:VCALENDAR
