BEGIN:VCALENDAR
VERSION:2.0
PRODID:-//Squarespace Inc/Squarespace 6//v6//EN
BEGIN:VEVENT
UID:5b160bf188251b408d4c2452@squarespace.com
DTSTAMP:20180610T224800Z
DTSTART:20180609T133000Z
DTEND:20180708T203000Z
SUMMARY:I See Red
END:VEVENT
END:VCALENDAR
