BEGIN:VCALENDAR
VERSION:2.0
PRODID:-//Squarespace Inc/Squarespace 6//v6//EN
BEGIN:VEVENT
UID:5b99e20af950b779d55c176d@squarespace.com
DTSTAMP:20181106T003037Z
DTSTART:20181215T143000Z
DTEND:20190210T213000Z
SUMMARY:Steve Fullmer: Cutting a New Orbit
END:VEVENT
END:VCALENDAR
