BEGIN:VCALENDAR
VERSION:2.0
PRODID:-//Squarespace Inc/Squarespace 6//v6//EN
BEGIN:VEVENT
UID:5b988f4c88251bd9ec45a34e@squarespace.com
DTSTAMP:20181129T025050Z
DTSTART:20181103T133000Z
DTEND:20190113T213000Z
SUMMARY:Seeing is Believing 
END:VEVENT
END:VCALENDAR
