BEGIN:VCALENDAR
VERSION:2.0
PRODID:-//Squarespace Inc/Squarespace 6//v6//EN
BEGIN:VEVENT
UID:5b988e7440ec9af8cd9d5606@squarespace.com
DTSTAMP:20181129T025211Z
DTSTART:20181117T143000Z
DTEND:20190127T213000Z
SUMMARY:Flora Scales
END:VEVENT
END:VCALENDAR
